BEGIN:VCALENDAR
VERSION:2.0
PRODID:-//FVK Uni Kiel - ECPv6.15.11//NONSGML v1.0//EN
CALSCALE:GREGORIAN
METHOD:PUBLISH
X-ORIGINAL-URL:https://www.fvk.uni-kiel.de
X-WR-CALDESC:Veranstaltungen für FVK Uni Kiel
REFRESH-INTERVAL;VALUE=DURATION:PT1H
X-Robots-Tag:noindex
X-PUBLISHED-TTL:PT1H
BEGIN:VTIMEZONE
TZID:Europe/Berlin
BEGIN:DAYLIGHT
TZOFFSETFROM:+0100
TZOFFSETTO:+0200
TZNAME:CEST
DTSTART:20230326T010000
END:DAYLIGHT
BEGIN:STANDARD
TZOFFSETFROM:+0200
TZOFFSETTO:+0100
TZNAME:CET
DTSTART:20231029T010000
END:STANDARD
BEGIN:DAYLIGHT
TZOFFSETFROM:+0100
TZOFFSETTO:+0200
TZNAME:CEST
DTSTART:20240331T010000
END:DAYLIGHT
BEGIN:STANDARD
TZOFFSETFROM:+0200
TZOFFSETTO:+0100
TZNAME:CET
DTSTART:20241027T010000
END:STANDARD
BEGIN:DAYLIGHT
TZOFFSETFROM:+0100
TZOFFSETTO:+0200
TZNAME:CEST
DTSTART:20250330T010000
END:DAYLIGHT
BEGIN:STANDARD
TZOFFSETFROM:+0200
TZOFFSETTO:+0100
TZNAME:CET
DTSTART:20251026T010000
END:STANDARD
END:VTIMEZONE
BEGIN:VEVENT
DTSTART;TZID=Europe/Berlin:20241102T210000
DTEND;TZID=Europe/Berlin:20241102T210000
DTSTAMP:20260423T175030
CREATED:20241005T084938Z
LAST-MODIFIED:20241005T084938Z
UID:13201-1730581200-1730581200@www.fvk.uni-kiel.de
SUMMARY:Semester Opening Party SH
DESCRIPTION:Party des Studentenwerks in Kooperation mit der Fachschaft Sport\nVVK vom 21.10.2024 – 01.11.2024
URL:https://www.fvk.uni-kiel.de/veranstaltung/semester-opening-party-sh/
LOCATION:Schleswig-Holstein
END:VEVENT
END:VCALENDAR