BEGIN:VCALENDAR
VERSION:2.0
PRODID:-//FVK Uni Kiel - ECPv6.15.11//NONSGML v1.0//EN
CALSCALE:GREGORIAN
METHOD:PUBLISH
X-ORIGINAL-URL:https://www.fvk.uni-kiel.de
X-WR-CALDESC:Veranstaltungen für FVK Uni Kiel
REFRESH-INTERVAL;VALUE=DURATION:PT1H
X-Robots-Tag:noindex
X-PUBLISHED-TTL:PT1H
BEGIN:VTIMEZONE
TZID:Europe/Berlin
BEGIN:DAYLIGHT
TZOFFSETFROM:+0100
TZOFFSETTO:+0200
TZNAME:CEST
DTSTART:20230326T010000
END:DAYLIGHT
BEGIN:STANDARD
TZOFFSETFROM:+0200
TZOFFSETTO:+0100
TZNAME:CET
DTSTART:20231029T010000
END:STANDARD
BEGIN:DAYLIGHT
TZOFFSETFROM:+0100
TZOFFSETTO:+0200
TZNAME:CEST
DTSTART:20240331T010000
END:DAYLIGHT
BEGIN:STANDARD
TZOFFSETFROM:+0200
TZOFFSETTO:+0100
TZNAME:CET
DTSTART:20241027T010000
END:STANDARD
BEGIN:DAYLIGHT
TZOFFSETFROM:+0100
TZOFFSETTO:+0200
TZNAME:CEST
DTSTART:20250330T010000
END:DAYLIGHT
BEGIN:STANDARD
TZOFFSETFROM:+0200
TZOFFSETTO:+0100
TZNAME:CET
DTSTART:20251026T010000
END:STANDARD
END:VTIMEZONE
BEGIN:VEVENT
DTSTART;TZID=Europe/Berlin:20240503T210000
DTEND;TZID=Europe/Berlin:20240503T210000
DTSTAMP:20260423T131510
CREATED:20231214T162917Z
LAST-MODIFIED:20231214T162917Z
UID:13132-1714770000-1714770000@www.fvk.uni-kiel.de
SUMMARY:Fun Overflow
DESCRIPTION:Party der Fachschaft Informatik \nVVK vom 2024-04-22 bis 2024-05-03
URL:https://www.fvk.uni-kiel.de/veranstaltung/fun-overflow/
LOCATION:Christian-Albrechts-Platz 3\, Christian-Albrechts-Platz 3\, Kiel\, 24118
END:VEVENT
BEGIN:VEVENT
DTSTART;TZID=Europe/Berlin:20240523T230000
DTEND;TZID=Europe/Berlin:20240523T230000
DTSTAMP:20260423T131510
CREATED:20240429T141225Z
LAST-MODIFIED:20240429T141225Z
UID:13182-1716505200-1716505200@www.fvk.uni-kiel.de
SUMMARY:PodiumsDISCOssion
DESCRIPTION:Party der Fachschaft WiPo \nVVK von 2024-04-29 bis 2024-05-23
URL:https://www.fvk.uni-kiel.de/veranstaltung/podiumsdiscossion-2/
LOCATION:Luna\, Bergstraße 17A\, Kiel\, 24103
END:VEVENT
BEGIN:VEVENT
DTSTART;TZID=Europe/Berlin:20240530T220000
DTEND;TZID=Europe/Berlin:20240530T220000
DTSTAMP:20260423T131510
CREATED:20240223T112900Z
LAST-MODIFIED:20240223T112900Z
UID:13151-1717106400-1717106400@www.fvk.uni-kiel.de
SUMMARY:Born4Korn
DESCRIPTION:Party der Fachschaft Agrar-und Ernährungswissenschaften \nVVK vom 2024-04-15 bis 2024-05-30
URL:https://www.fvk.uni-kiel.de/veranstaltung/born4korn-3/
LOCATION:TraumGmbH\, Grasweg 19\, Kiel\, 24118
END:VEVENT
END:VCALENDAR