BEGIN:VCALENDAR
VERSION:2.0
PRODID:-//FVK Uni Kiel - ECPv6.15.11//NONSGML v1.0//EN
CALSCALE:GREGORIAN
METHOD:PUBLISH
X-WR-CALNAME:FVK Uni Kiel
X-ORIGINAL-URL:https://www.fvk.uni-kiel.de
X-WR-CALDESC:Veranstaltungen für FVK Uni Kiel
REFRESH-INTERVAL;VALUE=DURATION:PT1H
X-Robots-Tag:noindex
X-PUBLISHED-TTL:PT1H
BEGIN:VTIMEZONE
TZID:Europe/Berlin
BEGIN:DAYLIGHT
TZOFFSETFROM:+0100
TZOFFSETTO:+0200
TZNAME:CEST
DTSTART:20230326T010000
END:DAYLIGHT
BEGIN:STANDARD
TZOFFSETFROM:+0200
TZOFFSETTO:+0100
TZNAME:CET
DTSTART:20231029T010000
END:STANDARD
BEGIN:DAYLIGHT
TZOFFSETFROM:+0100
TZOFFSETTO:+0200
TZNAME:CEST
DTSTART:20240331T010000
END:DAYLIGHT
BEGIN:STANDARD
TZOFFSETFROM:+0200
TZOFFSETTO:+0100
TZNAME:CET
DTSTART:20241027T010000
END:STANDARD
BEGIN:DAYLIGHT
TZOFFSETFROM:+0100
TZOFFSETTO:+0200
TZNAME:CEST
DTSTART:20250330T010000
END:DAYLIGHT
BEGIN:STANDARD
TZOFFSETFROM:+0200
TZOFFSETTO:+0100
TZNAME:CET
DTSTART:20251026T010000
END:STANDARD
END:VTIMEZONE
BEGIN:VEVENT
DTSTART;TZID=Europe/Berlin:20240606T180000
DTEND;TZID=Europe/Berlin:20240607T020000
DTSTAMP:20260424T142641
CREATED:20240425T172316Z
LAST-MODIFIED:20240425T172316Z
UID:13180-1717696800-1717725600@www.fvk.uni-kiel.de
SUMMARY:Sommerparty
DESCRIPTION:Party der Fachschaft Geschichte
URL:https://www.fvk.uni-kiel.de/veranstaltung/sommerparty-3/
LOCATION:LMS6/8
END:VEVENT
BEGIN:VEVENT
DTSTART;TZID=Europe/Berlin:20240606T230000
DTEND;TZID=Europe/Berlin:20240606T230000
DTSTAMP:20260424T142641
CREATED:20240130T143555Z
LAST-MODIFIED:20240318T180200Z
UID:13147-1717714800-1717714800@www.fvk.uni-kiel.de
SUMMARY:Sprachverlust
DESCRIPTION:Party der Fachschaft Anglistik & Romanistik
URL:https://www.fvk.uni-kiel.de/veranstaltung/sprachverlust-3/
LOCATION:Die Pumpe\, Haßstraße 22\, Kiel\, Schleswig-Holstein\, 24103
END:VEVENT
BEGIN:VEVENT
DTSTART;VALUE=DATE:20240608
DTEND;VALUE=DATE:20240609
DTSTAMP:20260424T142641
CREATED:20240307T134323Z
LAST-MODIFIED:20240307T134323Z
UID:13159-1717804800-1717804800@www.fvk.uni-kiel.de
SUMMARY:Campus Festival
DESCRIPTION:Am 08. Juni 2024 ist es endlich wieder soweit: Unser Festival öffnet seine Tore für einen Tag voller Musik\, Unterhaltungsprogramm und gutem Essen. Auf zwei Bühnen wird es für euch ein großartiges Programm geben und wir hoffen auf einen unvergesslichen Tag mit euch. Also Save the date und seid dabei\, wenn das Campusfestival die Uni Kiel wieder zum Beben bringt! \nWeitere Informationen auf campusfestival-kiel.de
URL:https://www.fvk.uni-kiel.de/veranstaltung/campus-festival/
LOCATION:Schleswig-Holstein
END:VEVENT
BEGIN:VEVENT
DTSTART;TZID=Europe/Berlin:20240613T180000
DTEND;TZID=Europe/Berlin:20240613T180000
DTSTAMP:20260424T142641
CREATED:20240425T093130Z
LAST-MODIFIED:20240425T093130Z
UID:13177-1718301600-1718301600@www.fvk.uni-kiel.de
SUMMARY:Sommerparty
DESCRIPTION:Sommerfest der Fachschaft Deutsch/Medien \n 
URL:https://www.fvk.uni-kiel.de/veranstaltung/sommerparty-2/
LOCATION:LS8 Wasserseite Laubengang/Wiese
END:VEVENT
BEGIN:VEVENT
DTSTART;TZID=Europe/Berlin:20240615T220000
DTEND;TZID=Europe/Berlin:20240615T220000
DTSTAMP:20260424T142641
CREATED:20231121T141608Z
LAST-MODIFIED:20240611T091116Z
UID:13115-1718488800-1718488800@www.fvk.uni-kiel.de
SUMMARY:SpoPa Open Air
DESCRIPTION:Party der Fachschaft Sport \nVVK vom 2024-05-27 bis 2024-06-14
URL:https://www.fvk.uni-kiel.de/veranstaltung/spopa-open-air-2/
LOCATION:Sportforum\, Olshausenstraße 74
END:VEVENT
BEGIN:VEVENT
DTSTART;TZID=Europe/Berlin:20240621T170000
DTEND;TZID=Europe/Berlin:20240621T170000
DTSTAMP:20260424T142641
CREATED:20240120T134637Z
LAST-MODIFIED:20240120T134637Z
UID:13139-1718989200-1718989200@www.fvk.uni-kiel.de
SUMMARY:Social Engineering
DESCRIPTION:Party der Fachschaft Ingenieurwissenschaften \nVVK vom 2024-06-03 bis 2024-06-20
URL:https://www.fvk.uni-kiel.de/veranstaltung/social-engineering-2/
LOCATION:Technische Fakultät\, Kaiserstraße 2\, Kiel\, 24143\, Deutschland
END:VEVENT
BEGIN:VEVENT
DTSTART;TZID=Europe/Berlin:20240628T230000
DTEND;TZID=Europe/Berlin:20240628T230000
DTSTAMP:20260424T142641
CREATED:20240223T112545Z
LAST-MODIFIED:20240223T112624Z
UID:13149-1719615600-1719615600@www.fvk.uni-kiel.de
SUMMARY:Kammerflimmern
DESCRIPTION:Party der Fachschaft Medizin \nVVK vom 2024-06-24 bis 2024-06-28
URL:https://www.fvk.uni-kiel.de/veranstaltung/kammerflimmern-4/
LOCATION:Die Pumpe\, Haßstraße 22\, Kiel\, Schleswig-Holstein\, 24103
END:VEVENT
END:VCALENDAR